Package: signatureSearch Version: 1.25.0 Command: /Library/Frameworks/R.framework/Resources/bin/R CMD build --keep-empty-dirs --no-resave-data signatureSearch StartedAt: 2025-11-13 17:43:13 -0500 (Thu, 13 Nov 2025) EndedAt: 2025-11-13 17:48:27 -0500 (Thu, 13 Nov 2025) EllapsedTime: 314.6 seconds RetCode: 0 Status: OK PackageFile: signatureSearch_1.25.0.tar.gz PackageFileSize: 5.288 MiB