Package: signatureSearch Version: 1.25.0 Command: rm -rf signatureSearch.buildbin-libdir && mkdir signatureSearch.buildbin-libdir && /Users/biocbuild/BBS/utils/build-universal.sh signatureSearch_1.25.0.tar.gz /Library/Frameworks/R.framework/Resources/bin/R signatureSearch.buildbin-libdir StartedAt: 2025-11-13 23:56:53 -0500 (Thu, 13 Nov 2025) EndedAt: 2025-11-13 23:57:46 -0500 (Thu, 13 Nov 2025) EllapsedTime: 53.2 seconds RetCode: 0 Status: OK PackageFile: signatureSearch_1.25.0.tgz PackageFileSize: 85.24 MiB