Package: shinyepico Version: 1.19.0 Command: /home/biocbuild/bbs-3.23-bioc/R/bin/R CMD build --keep-empty-dirs --no-resave-data shinyepico StartedAt: 2025-11-14 20:03:51 -0500 (Fri, 14 Nov 2025) EndedAt: 2025-11-14 20:04:00 -0500 (Fri, 14 Nov 2025) EllapsedTime: 9.0 seconds RetCode: 0 Status: OK PackageFile: shinyepico_1.19.0.tar.gz PackageFileSize: 2.248 MiB