Package: shinybiocloader Version: 1.1.0 Command: /home/biocbuild/bbs-3.23-bioc/R/bin/R CMD INSTALL shinybiocloader StartedAt: 2025-11-14 15:08:52 -0500 (Fri, 14 Nov 2025) EndedAt: 2025-11-14 15:09:23 -0500 (Fri, 14 Nov 2025) EllapsedTime: 30.4 seconds RetCode: 0 Status: OK