Package: shinybiocloader Version: 1.1.0 Command: /Library/Frameworks/R.framework/Resources/bin/R CMD build --keep-empty-dirs --no-resave-data shinybiocloader StartedAt: 2025-11-13 17:42:36 -0500 (Thu, 13 Nov 2025) EndedAt: 2025-11-13 17:42:40 -0500 (Thu, 13 Nov 2025) EllapsedTime: 4.0 seconds RetCode: 0 Status: OK PackageFile: shinybiocloader_1.1.0.tar.gz PackageFileSize: 28.62 KiB