Package: shinyMethyl Version: 1.47.0 Command: /home/biocbuild/bbs-3.23-bioc/R/bin/R CMD INSTALL shinyMethyl StartedAt: 2025-11-14 15:43:41 -0500 (Fri, 14 Nov 2025) EndedAt: 2025-11-14 15:44:27 -0500 (Fri, 14 Nov 2025) EllapsedTime: 45.3 seconds RetCode: 0 Status: OK