Package: shinyMethyl Version: 1.47.0 Command: /home/biocbuild/bbs-3.23-bioc/R/bin/R CMD build --keep-empty-dirs --no-resave-data shinyMethyl StartedAt: 2025-11-14 20:03:53 -0500 (Fri, 14 Nov 2025) EndedAt: 2025-11-14 20:05:00 -0500 (Fri, 14 Nov 2025) EllapsedTime: 67.1 seconds RetCode: 0 Status: OK PackageFile: shinyMethyl_1.47.0.tar.gz PackageFileSize: 7.24 MiB