Package: shinyMethyl Version: 1.47.0 Command: /Library/Frameworks/R.framework/Resources/bin/R CMD INSTALL shinyMethyl StartedAt: 2025-11-14 15:22:23 -0500 (Fri, 14 Nov 2025) EndedAt: 2025-11-14 15:22:42 -0500 (Fri, 14 Nov 2025) EllapsedTime: 18.7 seconds RetCode: 0 Status: OK