Package: shinyMethyl Version: 1.47.0 Command: rm -rf shinyMethyl.buildbin-libdir && mkdir shinyMethyl.buildbin-libdir && /Users/biocbuild/BBS/utils/build-universal.sh shinyMethyl_1.47.0.tar.gz /Library/Frameworks/R.framework/Resources/bin/R shinyMethyl.buildbin-libdir StartedAt: 2025-11-14 23:52:00 -0500 (Fri, 14 Nov 2025) EndedAt: 2025-11-14 23:52:23 -0500 (Fri, 14 Nov 2025) EllapsedTime: 22.5 seconds RetCode: 0 Status: OK PackageFile: shinyMethyl_1.47.0.tgz PackageFileSize: 2.428 MiB