Package: shinyMethyl Version: 1.47.0 Maintainer: Jean-Philippe Fortin MaintainerEmail: fortin946 at gmail.com git_url: https://git.bioconductor.org/packages/shinyMethyl git_branch: devel git_last_commit: 64dff78 git_last_commit_date: 2025-10-29 10:20:21 -0500 (Wed, 29 Oct 2025)