Package: shinyDSP Version: 1.3.0 Command: /home/biocbuild/bbs-3.23-bioc/R/bin/R CMD build --keep-empty-dirs --no-resave-data shinyDSP StartedAt: 2025-11-13 20:03:33 -0500 (Thu, 13 Nov 2025) EndedAt: 2025-11-13 20:08:54 -0500 (Thu, 13 Nov 2025) EllapsedTime: 321.4 seconds RetCode: 0 Status: OK PackageFile: shinyDSP_1.3.0.tar.gz PackageFileSize: 2.679 MiB