Package: shinyDSP Version: 1.3.0 Command: /Library/Frameworks/R.framework/Resources/bin/R CMD build --keep-empty-dirs --no-resave-data shinyDSP StartedAt: 2025-11-13 17:42:37 -0500 (Thu, 13 Nov 2025) EndedAt: 2025-11-13 17:44:29 -0500 (Thu, 13 Nov 2025) EllapsedTime: 112.3 seconds RetCode: 0 Status: OK PackageFile: shinyDSP_1.3.0.tar.gz PackageFileSize: 2.656 MiB