Package: shinyDSP Version: 1.3.0 Command: rm -rf shinyDSP.buildbin-libdir && mkdir shinyDSP.buildbin-libdir && /Users/biocbuild/BBS/utils/build-universal.sh shinyDSP_1.3.0.tar.gz /Library/Frameworks/R.framework/Resources/bin/R shinyDSP.buildbin-libdir StartedAt: 2025-11-14 23:51:57 -0500 (Fri, 14 Nov 2025) EndedAt: 2025-11-14 23:52:16 -0500 (Fri, 14 Nov 2025) EllapsedTime: 19.4 seconds RetCode: 0 Status: OK PackageFile: shinyDSP_1.3.0.tgz PackageFileSize: 1.735 MiB