Package: shiny.gosling Version: 1.7.0 Command: /Library/Frameworks/R.framework/Resources/bin/R CMD INSTALL shiny.gosling StartedAt: 2025-11-23 15:05:57 -0500 (Sun, 23 Nov 2025) EndedAt: 2025-11-23 15:06:00 -0500 (Sun, 23 Nov 2025) EllapsedTime: 2.9 seconds RetCode: 0 Status: OK