Package: shiny.gosling Version: 1.7.0 Command: /Library/Frameworks/R.framework/Resources/bin/R CMD build --keep-empty-dirs --no-resave-data shiny.gosling StartedAt: 2025-11-23 17:41:31 -0500 (Sun, 23 Nov 2025) EndedAt: 2025-11-23 17:41:43 -0500 (Sun, 23 Nov 2025) EllapsedTime: 12.1 seconds RetCode: 1 Status: ERROR PackageFile: None PackageFileSize: NA