Package: sevenC Version: 1.31.0 Command: /Library/Frameworks/R.framework/Resources/bin/R CMD INSTALL sevenC StartedAt: 2025-11-14 15:17:04 -0500 (Fri, 14 Nov 2025) EndedAt: 2025-11-14 15:17:14 -0500 (Fri, 14 Nov 2025) EllapsedTime: 9.9 seconds RetCode: 0 Status: OK