Package: sevenC Version: 1.31.0 Command: /Library/Frameworks/R.framework/Resources/bin/R CMD build --keep-empty-dirs --no-resave-data sevenC StartedAt: 2025-11-14 17:39:24 -0500 (Fri, 14 Nov 2025) EndedAt: 2025-11-14 17:39:45 -0500 (Fri, 14 Nov 2025) EllapsedTime: 21.2 seconds RetCode: 0 Status: OK PackageFile: sevenC_1.31.0.tar.gz PackageFileSize: 1.934 MiB