Package: sevenC Version: 1.31.0 Command: rm -rf sevenC.buildbin-libdir && mkdir sevenC.buildbin-libdir && /Users/biocbuild/BBS/utils/build-universal.sh sevenC_1.31.0.tar.gz /Library/Frameworks/R.framework/Resources/bin/R sevenC.buildbin-libdir StartedAt: 2025-11-18 00:52:58 -0500 (Tue, 18 Nov 2025) EndedAt: 2025-11-18 00:53:11 -0500 (Tue, 18 Nov 2025) EllapsedTime: 12.2 seconds RetCode: 0 Status: OK PackageFile: sevenC_1.31.0.tgz PackageFileSize: 2.045 MiB