Package: sesame Version: 1.29.0 Command: /home/biocbuild/bbs-3.23-bioc/R/bin/R CMD INSTALL sesame StartedAt: 2025-11-11 15:31:16 -0500 (Tue, 11 Nov 2025) EndedAt: 2025-11-11 15:31:51 -0500 (Tue, 11 Nov 2025) EllapsedTime: 35.1 seconds RetCode: 0 Status: OK