Package: sesame Version: 1.29.0 Command: /Library/Frameworks/R.framework/Resources/bin/R CMD build --keep-empty-dirs --no-resave-data sesame StartedAt: 2025-11-12 17:12:45 -0500 (Wed, 12 Nov 2025) EndedAt: 2025-11-12 17:14:08 -0500 (Wed, 12 Nov 2025) EllapsedTime: 83.0 seconds RetCode: 1 Status: ERROR PackageFile: None PackageFileSize: NA