Package: sesame Version: 1.29.0 Maintainer: Wanding Zhou MaintainerEmail: zhouwanding at gmail.com git_url: https://git.bioconductor.org/packages/sesame git_branch: devel git_last_commit: 92283cb git_last_commit_date: 2025-10-29 10:46:05 -0500 (Wed, 29 Oct 2025)