Package: seqsetvis Version: 1.31.0 Command: /home/biocbuild/bbs-3.23-bioc/R/bin/R CMD build --keep-empty-dirs --no-resave-data seqsetvis StartedAt: 2025-11-18 20:52:38 -0500 (Tue, 18 Nov 2025) EndedAt: 2025-11-18 20:54:00 -0500 (Tue, 18 Nov 2025) EllapsedTime: 82.1 seconds RetCode: 0 Status: OK PackageFile: seqsetvis_1.31.0.tar.gz PackageFileSize: 2.05 MiB