Package: seqsetvis Version: 1.31.0 Command: /Library/Frameworks/R.framework/Resources/bin/R CMD build --keep-empty-dirs --no-resave-data seqsetvis StartedAt: 2025-11-13 17:41:58 -0500 (Thu, 13 Nov 2025) EndedAt: 2025-11-13 17:42:31 -0500 (Thu, 13 Nov 2025) EllapsedTime: 33.4 seconds RetCode: 0 Status: OK PackageFile: seqsetvis_1.31.0.tar.gz PackageFileSize: 2.068 MiB