Package: seqsetvis Version: 1.31.0 Command: rm -rf seqsetvis.buildbin-libdir && mkdir seqsetvis.buildbin-libdir && /Users/biocbuild/BBS/utils/build-universal.sh seqsetvis_1.31.0.tar.gz /Library/Frameworks/R.framework/Resources/bin/R seqsetvis.buildbin-libdir StartedAt: 2025-11-13 23:56:34 -0500 (Thu, 13 Nov 2025) EndedAt: 2025-11-13 23:56:53 -0500 (Thu, 13 Nov 2025) EllapsedTime: 18.4 seconds RetCode: 0 Status: OK PackageFile: seqsetvis_1.31.0.tgz PackageFileSize: 2.417 MiB