Package: seqsetvis Version: 1.31.0 Maintainer: Joseph R Boyd MaintainerEmail: jrboyd at uvm.edu git_url: https://git.bioconductor.org/packages/seqsetvis git_branch: devel git_last_commit: 1aad17d git_last_commit_date: 2025-10-29 10:44:19 -0500 (Wed, 29 Oct 2025)