Package: seqcombo Version: 1.33.0 Command: /home/biocbuild/bbs-3.23-bioc/R/bin/R CMD INSTALL seqcombo StartedAt: 2025-11-23 15:08:44 -0500 (Sun, 23 Nov 2025) EndedAt: 2025-11-23 15:08:55 -0500 (Sun, 23 Nov 2025) EllapsedTime: 10.3 seconds RetCode: 0 Status: OK