Package: seqcombo Version: 1.33.0 Command: /Library/Frameworks/R.framework/Resources/bin/R CMD INSTALL seqcombo StartedAt: 2025-11-14 15:05:03 -0500 (Fri, 14 Nov 2025) EndedAt: 2025-11-14 15:05:08 -0500 (Fri, 14 Nov 2025) EllapsedTime: 5.2 seconds RetCode: 0 Status: OK