Package: seqcombo Version: 1.33.0 Command: rm -rf seqcombo.buildbin-libdir && mkdir seqcombo.buildbin-libdir && /Users/biocbuild/BBS/utils/build-universal.sh seqcombo_1.33.0.tar.gz /Library/Frameworks/R.framework/Resources/bin/R seqcombo.buildbin-libdir StartedAt: 2025-11-14 23:51:43 -0500 (Fri, 14 Nov 2025) EndedAt: 2025-11-14 23:51:46 -0500 (Fri, 14 Nov 2025) EllapsedTime: 3.1 seconds RetCode: 0 Status: OK PackageFile: seqcombo_1.33.0.tgz PackageFileSize: 873.2 KiB