Package: seqcombo Version: 1.33.0 Maintainer: Guangchuang Yu MaintainerEmail: guangchuangyu at gmail.com git_url: https://git.bioconductor.org/packages/seqcombo git_branch: devel git_last_commit: 29bf96e git_last_commit_date: 2025-10-29 10:40:29 -0500 (Wed, 29 Oct 2025)