Package: seqLogo Version: 1.77.0 Command: /Library/Frameworks/R.framework/Resources/bin/R CMD INSTALL seqLogo StartedAt: 2025-11-13 15:02:24 -0500 (Thu, 13 Nov 2025) EndedAt: 2025-11-13 15:02:35 -0500 (Thu, 13 Nov 2025) EllapsedTime: 11.0 seconds RetCode: 0 Status: OK