Package: seqLogo Version: 1.77.0 Command: rm -rf seqLogo.buildbin-libdir && mkdir seqLogo.buildbin-libdir && /Users/biocbuild/BBS/utils/build-universal.sh seqLogo_1.77.0.tar.gz /Library/Frameworks/R.framework/Resources/bin/R seqLogo.buildbin-libdir StartedAt: 2025-11-13 23:56:31 -0500 (Thu, 13 Nov 2025) EndedAt: 2025-11-13 23:56:34 -0500 (Thu, 13 Nov 2025) EllapsedTime: 3.1 seconds RetCode: 0 Status: OK PackageFile: seqLogo_1.77.0.tgz PackageFileSize: 864.3 KiB