Back to Build/check report for BioC 3.23:   simplified   long
ABCDEFGHIJKLMNOPQR[S]TUVWXYZ

This page was generated on 2025-11-13 11:32 -0500 (Thu, 13 Nov 2025).

HostnameOSArch (*)R versionInstalled pkgs
kjohnson3macOS 13.7.7 Venturaarm64R Under development (unstable) (2025-11-04 r88984) -- "Unsuffered Consequences" 4013
Click on any hostname to see more info about the system (e.g. compilers)      (*) as reported by 'uname -p', except on Windows and Mac OS X

All results for package seqLogo


To the developers/maintainers of the seqLogo package:
- Allow up to 24 hours (and sometimes 48 hours) for your latest push to git@git.bioconductor.org:packages/seqLogo.git to reflect on this report. See Troubleshooting Build Report for more information.
- Use the following Renviron settings to reproduce errors and warnings.
- If 'R CMD check' started to fail recently on the Linux builder(s) over a missing dependency, add the missing dependency to 'Suggests:' in your DESCRIPTION file. See Renviron.bioc for more information.

raw results

Package 1954/2325HostnameOS / ArchINSTALLBUILDCHECKBUILD BIN
seqLogo 1.77.0  (landing page)
Robert Ivanek
Snapshot Date: 2025-11-12 13:40 -0500 (Wed, 12 Nov 2025)
git_url: https://git.bioconductor.org/packages/seqLogo
git_branch: devel
git_last_commit: f1113d7
git_last_commit_date: 2025-10-29 09:59:01 -0500 (Wed, 29 Oct 2025)
kjohnson3macOS 13.7.7 Ventura / arm64  OK    OK    OK    OK  YES



Results for Bioconductor software packages that depend directly on package seqLogo

QUICK STATSOS / ArchINSTALLBUILDCHECKBUILD BIN
kjohnson3macOS 13.7.7 Ventura / arm64
026
035
0005
005
Package 1/8HostnameOS / ArchINSTALLBUILDCHECKBUILD BIN
IntEREst 1.35.0  (landing page)
Ali Oghabian
git_last_commit: 0e454ed
git_last_commit_date: 2025-10-29 10:37:18 -0500
kjohnson3macOS 13.7.7 Ventura / arm64  ERROR    ERROR  skippedskipped
Package 2/8HostnameOS / ArchINSTALLBUILDCHECKBUILD BIN
PWMEnrich 4.47.0  (landing page)
Diego Diez
git_last_commit: 3606145
git_last_commit_date: 2025-10-29 10:11:23 -0500
kjohnson3macOS 13.7.7 Ventura / arm64  OK    OK    OK    OK  YES
Package 3/8HostnameOS / ArchINSTALLBUILDCHECKBUILD BIN
RCAS 1.37.0  (landing page)
Bora Uyar
git_last_commit: 1a77884
git_last_commit_date: 2025-10-29 10:33:22 -0500
kjohnson3macOS 13.7.7 Ventura / arm64  OK    OK    OK    OK  NO, package depends on 'GenomicRanges' which is only available as a source package that needs compilation
Package 4/8HostnameOS / ArchINSTALLBUILDCHECKBUILD BIN
riboSeqR 1.45.0  (landing page)
Samuel Granjeaud
git_last_commit: 77f80b5
git_last_commit_date: 2025-10-29 10:20:05 -0500
kjohnson3macOS 13.7.7 Ventura / arm64  ERROR    ERROR  skippedskipped
Package 5/8HostnameOS / ArchINSTALLBUILDCHECKBUILD BIN
scanMiR 1.17.0  (landing page)
Pierre-Luc Germain
git_last_commit: 6328f02
git_last_commit_date: 2025-10-29 11:10:43 -0500
kjohnson3macOS 13.7.7 Ventura / arm64  OK    OK    OK    OK  NO, package depends on 'GenomicRanges' which is only available as a source package that needs compilation
Package 6/8HostnameOS / ArchINSTALLBUILDCHECKBUILD BIN
SPLINTER 1.37.0  (landing page)
Diana Low
git_last_commit: 2ff2d3c
git_last_commit_date: 2025-10-29 10:34:37 -0500
kjohnson3macOS 13.7.7 Ventura / arm64  OK    ERROR  skippedskipped
Package 7/8HostnameOS / ArchINSTALLBUILDCHECKBUILD BIN
TENET 1.3.0  (landing page)
Rhie Lab at the University of Southern California
git_last_commit: 135855c
git_last_commit_date: 2025-10-29 11:34:59 -0500
kjohnson3macOS 13.7.7 Ventura / arm64  OK    OK    OK    OK  NO, package depends on 'GenomicRanges' which is only available as a source package that needs compilation
Package 8/8HostnameOS / ArchINSTALLBUILDCHECKBUILD BIN
TFBSTools 1.49.0  (landing page)
Ge Tan
git_last_commit: d5d1319
git_last_commit_date: 2025-10-29 10:16:59 -0500
kjohnson3macOS 13.7.7 Ventura / arm64  OK    OK    OK    OK  NO, package depends on 'GenomicRanges' which is only available as a source package that needs compilation