Package: seqCAT Version: 1.33.0 Command: /home/biocbuild/bbs-3.23-bioc/R/bin/R CMD INSTALL seqCAT StartedAt: 2025-11-14 15:43:33 -0500 (Fri, 14 Nov 2025) EndedAt: 2025-11-14 15:44:11 -0500 (Fri, 14 Nov 2025) EllapsedTime: 38.1 seconds RetCode: 0 Status: OK