Package: seqCAT Version: 1.33.0 Command: /Library/Frameworks/R.framework/Resources/bin/R CMD INSTALL seqCAT StartedAt: 2025-11-14 15:22:29 -0500 (Fri, 14 Nov 2025) EndedAt: 2025-11-14 15:22:45 -0500 (Fri, 14 Nov 2025) EllapsedTime: 16.0 seconds RetCode: 0 Status: OK