Package: seqCAT Version: 1.33.0 Command: /Library/Frameworks/R.framework/Resources/bin/R CMD build --keep-empty-dirs --no-resave-data seqCAT StartedAt: 2025-11-14 17:38:42 -0500 (Fri, 14 Nov 2025) EndedAt: 2025-11-14 17:39:19 -0500 (Fri, 14 Nov 2025) EllapsedTime: 36.4 seconds RetCode: 0 Status: OK PackageFile: seqCAT_1.33.0.tar.gz PackageFileSize: 1.897 MiB