Package: seqCAT Version: 1.33.0 Command: rm -rf seqCAT.buildbin-libdir && mkdir seqCAT.buildbin-libdir && /Users/biocbuild/BBS/utils/build-universal.sh seqCAT_1.33.0.tar.gz /Library/Frameworks/R.framework/Resources/bin/R seqCAT.buildbin-libdir StartedAt: 2025-11-16 23:52:50 -0500 (Sun, 16 Nov 2025) EndedAt: 2025-11-16 23:53:09 -0500 (Sun, 16 Nov 2025) EllapsedTime: 19.4 seconds RetCode: 0 Status: OK PackageFile: seqCAT_1.33.0.tgz PackageFileSize: 1.961 MiB