Package: seqCAT Version: 1.33.0 Maintainer: Erik Fasterius MaintainerEmail: erik.fasterius at outlook.com git_url: https://git.bioconductor.org/packages/seqCAT git_branch: devel git_last_commit: 52e812d git_last_commit_date: 2025-10-29 10:40:54 -0500 (Wed, 29 Oct 2025)