Package: selectKSigs Version: 1.23.0 Command: /home/biocbuild/bbs-3.23-bioc/R/bin/R CMD INSTALL selectKSigs StartedAt: 2025-11-23 16:01:17 -0500 (Sun, 23 Nov 2025) EndedAt: 2025-11-23 16:01:31 -0500 (Sun, 23 Nov 2025) EllapsedTime: 14.2 seconds RetCode: 0 Status: OK