Package: selectKSigs Version: 1.23.0 Command: /home/biocbuild/bbs-3.23-bioc/R/bin/R CMD build --keep-empty-dirs --no-resave-data selectKSigs StartedAt: 2025-11-23 19:59:49 -0500 (Sun, 23 Nov 2025) EndedAt: 2025-11-23 20:01:20 -0500 (Sun, 23 Nov 2025) EllapsedTime: 90.1 seconds RetCode: 0 Status: OK PackageFile: selectKSigs_1.23.0.tar.gz PackageFileSize: 391.2 KiB