Package: selectKSigs Version: 1.23.0 Command: /Library/Frameworks/R.framework/Resources/bin/R CMD INSTALL selectKSigs StartedAt: 2025-11-14 15:32:09 -0500 (Fri, 14 Nov 2025) EndedAt: 2025-11-14 15:32:14 -0500 (Fri, 14 Nov 2025) EllapsedTime: 5.1 seconds RetCode: 0 Status: OK