Package: selectKSigs Version: 1.23.0 Command: /Library/Frameworks/R.framework/Resources/bin/R CMD build --keep-empty-dirs --no-resave-data selectKSigs StartedAt: 2025-11-14 17:38:21 -0500 (Fri, 14 Nov 2025) EndedAt: 2025-11-14 17:39:00 -0500 (Fri, 14 Nov 2025) EllapsedTime: 38.4 seconds RetCode: 0 Status: OK PackageFile: selectKSigs_1.23.0.tar.gz PackageFileSize: 406.7 KiB