Package: selectKSigs Version: 1.23.0 Command: rm -rf selectKSigs.buildbin-libdir && mkdir selectKSigs.buildbin-libdir && /Users/biocbuild/BBS/utils/build-universal.sh selectKSigs_1.23.0.tar.gz /Library/Frameworks/R.framework/Resources/bin/R selectKSigs.buildbin-libdir StartedAt: 2025-11-13 23:56:16 -0500 (Thu, 13 Nov 2025) EndedAt: 2025-11-13 23:56:23 -0500 (Thu, 13 Nov 2025) EllapsedTime: 7.1 seconds RetCode: 0 Status: OK PackageFile: selectKSigs_1.23.0.tgz PackageFileSize: 490.6 KiB