Package: segmenter Version: 1.17.0 Command: /Library/Frameworks/R.framework/Resources/bin/R CMD INSTALL segmenter StartedAt: 2025-11-12 15:46:18 -0500 (Wed, 12 Nov 2025) EndedAt: 2025-11-12 15:46:35 -0500 (Wed, 12 Nov 2025) EllapsedTime: 16.9 seconds RetCode: 0 Status: OK