Package: segmenter Version: 1.17.0 Command: /Library/Frameworks/R.framework/Resources/bin/R CMD check --install=check:segmenter.install-out.txt --library=/Library/Frameworks/R.framework/Resources/library --no-vignettes --timings segmenter_1.17.0.tar.gz StartedAt: 2025-11-14 22:26:38 -0500 (Fri, 14 Nov 2025) EndedAt: 2025-11-14 22:30:14 -0500 (Fri, 14 Nov 2025) EllapsedTime: 216.8 seconds RetCode: 0 Status: OK CheckDir: segmenter.Rcheck Warnings: 0