Package: segmentSeq Version: 2.45.0 Command: /home/biocbuild/bbs-3.23-bioc/R/bin/R CMD INSTALL segmentSeq StartedAt: 2025-11-14 15:52:26 -0500 (Fri, 14 Nov 2025) EndedAt: 2025-11-14 15:53:03 -0500 (Fri, 14 Nov 2025) EllapsedTime: 37.5 seconds RetCode: 0 Status: OK