Package: segmentSeq Version: 2.45.0 Command: /home/biocbuild/bbs-3.23-bioc/R/bin/R CMD check --install=check:segmentSeq.install-out.txt --library=/home/biocbuild/bbs-3.23-bioc/R/site-library --timings segmentSeq_2.45.0.tar.gz StartedAt: 2025-11-15 03:58:32 -0500 (Sat, 15 Nov 2025) EndedAt: 2025-11-15 04:06:26 -0500 (Sat, 15 Nov 2025) EllapsedTime: 474.6 seconds RetCode: 0 Status: OK CheckDir: segmentSeq.Rcheck Warnings: 0