Package: segmentSeq Version: 2.45.0 Command: /Library/Frameworks/R.framework/Resources/bin/R CMD INSTALL segmentSeq StartedAt: 2025-11-14 15:26:38 -0500 (Fri, 14 Nov 2025) EndedAt: 2025-11-14 15:26:52 -0500 (Fri, 14 Nov 2025) EllapsedTime: 14.6 seconds RetCode: 0 Status: OK