Package: sechm Version: 1.19.0 Command: /home/biocbuild/bbs-3.23-bioc/R/bin/R CMD build --keep-empty-dirs --no-resave-data sechm StartedAt: 2025-11-14 20:00:12 -0500 (Fri, 14 Nov 2025) EndedAt: 2025-11-14 20:01:19 -0500 (Fri, 14 Nov 2025) EllapsedTime: 67.1 seconds RetCode: 0 Status: OK PackageFile: sechm_1.19.0.tar.gz PackageFileSize: 1.049 MiB