Package: sechm Version: 1.19.0 Command: rm -rf sechm.buildbin-libdir && mkdir sechm.buildbin-libdir && /Users/biocbuild/BBS/utils/build-universal.sh sechm_1.19.0.tar.gz /Library/Frameworks/R.framework/Resources/bin/R sechm.buildbin-libdir StartedAt: 2025-11-13 23:56:12 -0500 (Thu, 13 Nov 2025) EndedAt: 2025-11-13 23:56:25 -0500 (Thu, 13 Nov 2025) EllapsedTime: 13.2 seconds RetCode: 0 Status: OK PackageFile: sechm_1.19.0.tgz PackageFileSize: 1.127 MiB