Package: sechm Version: 1.19.0 Maintainer: Pierre-Luc Germain MaintainerEmail: pierre-luc.germain at hest.ethz.ch git_url: https://git.bioconductor.org/packages/sechm git_branch: devel git_last_commit: 80bb3d7 git_last_commit_date: 2025-10-29 11:08:11 -0500 (Wed, 29 Oct 2025)